BEGIN:VCALENDAR
VERSION:2.0
PRODID:icalendar-ruby
CALSCALE:GREGORIAN
X-WR-TIMEZONE:Europe/Helsinki
BEGIN:VTIMEZONE
TZID:Europe/Helsinki
BEGIN:DAYLIGHT
DTSTART:20260329T040000
TZOFFSETFROM:+0200
TZOFFSETTO:+0300
RRULE:FREQ=YEARLY;BYDAY=-1SU;BYMONTH=3
TZNAME:EEST
END:DAYLIGHT
BEGIN:STANDARD
DTSTART:20261025T030000
TZOFFSETFROM:+0300
TZOFFSETTO:+0200
RRULE:FREQ=YEARLY;BYDAY=-1SU;BYMONTH=10
TZNAME:EET
END:STANDARD
END:VTIMEZONE
BEGIN:VEVENT
DTSTAMP:20260421T165019
UID:lcspanthers.myclub.fi-700872
DTSTART;TZID=Europe/Helsinki:20171016T224500
DTEND;TZID=Europe/Helsinki:20171016T224500
DESCRIPTION:Tervetuloa junioreiden cheertanssijoukkueeseen Diardikseen harr
 astamaan.  Joukkue treenaa cheertanssin perusteita kaksi kertaa viikossa: 
 maanantaisin klo 19:30-20.30 ja torstaisin klo 17:30-18.30. Ensimmäiset t
 reenit ovat 8.1.  Osallistuminen ei edellytä aiempaa kokemusta lajista. J
 oukkueeseen ovat tervetulleita 12-16 -vuotiaat harrastajat.  Kausimaksu on
  125 euroa ja jäsenmaksu 30 euroa per kausi. Jäsenmaksu maksetaan vain k
 erran\,  mikäli jo harrastaa seurassa cheerleadingiä. Toimitamme infokir
 jeen kaikille ilmoittautuneille tammikuun alussa. \n\nhttps://lcspanthers.
 myclub.fi/flow/events/700872
LOCATION:Vahvistamaton paikka\, 
SEQUENCE:0
SUMMARY:LCS Panthers ry: Ilmoittautuminen cheertanssin juniorjoukkueeseen
URL;VALUE=URI:https://lcspanthers.myclub.fi/flow/events/700872
END:VEVENT
END:VCALENDAR
