BEGIN:VCALENDAR
VERSION:2.0
PRODID:icalendar-ruby
CALSCALE:GREGORIAN
X-WR-TIMEZONE:Europe/Helsinki
BEGIN:VTIMEZONE
TZID:Europe/Helsinki
BEGIN:DAYLIGHT
DTSTART:20260329T040000
TZOFFSETFROM:+0200
TZOFFSETTO:+0300
RRULE:FREQ=YEARLY;BYDAY=-1SU;BYMONTH=3
TZNAME:EEST
END:DAYLIGHT
BEGIN:STANDARD
DTSTART:20261025T030000
TZOFFSETFROM:+0300
TZOFFSETTO:+0200
RRULE:FREQ=YEARLY;BYDAY=-1SU;BYMONTH=10
TZNAME:EET
END:STANDARD
END:VTIMEZONE
BEGIN:VEVENT
DTSTAMP:20260421T182752
UID:lcspanthers.myclub.fi-429969
DTSTART;TZID=Europe/Helsinki:20170109T000000
DTEND;TZID=Europe/Helsinki:20170109T000000
DESCRIPTION:Nigripes on junioreiden harrastejoukkue. Alaikäraja on 12 vuot
 ta ja yläikärajaa ei ole. Joukkue harjoittelee 2-3 kertaa viikossa cheer
 leadingin perusteita. Harjoitukset ovat keskiviikkoisin Salinkallion koulu
 lla klo 17-18.30\, sunnuntaisin Suurhallissa klo 12-14 ja lauantaisin akro
 a mustakallion tunnelissa. \n\nhttps://lcspanthers.myclub.fi/flow/events/4
 29969
LOCATION:Ilmoittautuminen\, 
SEQUENCE:0
SUMMARY:LCS Panthers ry: Ilmoittautuminen Nigripes (2004-ei yläikärajaa)
URL;VALUE=URI:https://lcspanthers.myclub.fi/flow/events/429969
END:VEVENT
END:VCALENDAR
