BEGIN:VCALENDAR
VERSION:2.0
PRODID:icalendar-ruby
CALSCALE:GREGORIAN
X-WR-TIMEZONE:Europe/Helsinki
BEGIN:VTIMEZONE
TZID:Europe/Helsinki
BEGIN:DAYLIGHT
DTSTART:20260329T040000
TZOFFSETFROM:+0200
TZOFFSETTO:+0300
RRULE:FREQ=YEARLY;BYDAY=-1SU;BYMONTH=3
TZNAME:EEST
END:DAYLIGHT
BEGIN:STANDARD
DTSTART:20261025T030000
TZOFFSETFROM:+0300
TZOFFSETTO:+0200
RRULE:FREQ=YEARLY;BYDAY=-1SU;BYMONTH=10
TZNAME:EET
END:STANDARD
END:VTIMEZONE
BEGIN:VEVENT
DTSTAMP:20260421T182759
UID:lcspanthers.myclub.fi-429967
DTSTART;TZID=Europe/Helsinki:20170109T000000
DTEND;TZID=Europe/Helsinki:20170109T000000
DESCRIPTION:Balica on minien harrastejoukkue\, joka koostuu 8-12-vuotiaista
  harrastajista. Harjoituksia on 1-2 kertaa viikossa. Sunnuntaina Kärpäse
 n koululla klo 13.30-15 ja lauantaisin vapaaehtoinen akro mustankallion vo
 imistelusalissa. \n\nhttps://lcspanthers.myclub.fi/flow/events/429967
LOCATION:Ilmoittautuminen\, 
SEQUENCE:0
SUMMARY:Vanhat harrastejoukkueet: Ilmoittautuminen Balica (2004-2008)
URL;VALUE=URI:https://lcspanthers.myclub.fi/flow/events/429967
END:VEVENT
END:VCALENDAR
