BEGIN:VCALENDAR
VERSION:2.0
PRODID:icalendar-ruby
CALSCALE:GREGORIAN
X-WR-TIMEZONE:Europe/Helsinki
BEGIN:VTIMEZONE
TZID:Europe/Helsinki
BEGIN:DAYLIGHT
DTSTART:20260329T040000
TZOFFSETFROM:+0200
TZOFFSETTO:+0300
RRULE:FREQ=YEARLY;BYDAY=-1SU;BYMONTH=3
TZNAME:EEST
END:DAYLIGHT
BEGIN:STANDARD
DTSTART:20261025T030000
TZOFFSETFROM:+0300
TZOFFSETTO:+0200
RRULE:FREQ=YEARLY;BYDAY=-1SU;BYMONTH=10
TZNAME:EET
END:STANDARD
END:VTIMEZONE
BEGIN:VEVENT
DTSTAMP:20260421T182759
UID:lcspanthers.myclub.fi-429964
DTSTART;TZID=Europe/Helsinki:20170109T000000
DTEND;TZID=Europe/Helsinki:20170109T000000
DESCRIPTION:Theria on mikrominien harrastejoukkue\, joka koostuu 6-7-vuotia
 ista harrastajista. Harjoitukset ovat sunnuntaisin Kärpäsen koululla klo
  13-14.30.\n\nhttps://lcspanthers.myclub.fi/flow/events/429964
LOCATION:Ilmoittautuminen\, 
SEQUENCE:0
SUMMARY:LCS Panthers ry: Ilmoittautuminen Theria (2009-2011)
URL;VALUE=URI:https://lcspanthers.myclub.fi/flow/events/429964
END:VEVENT
END:VCALENDAR
