BEGIN:VCALENDAR
VERSION:2.0
PRODID:icalendar-ruby
CALSCALE:GREGORIAN
X-WR-TIMEZONE:Europe/Helsinki
BEGIN:VTIMEZONE
TZID:Europe/Helsinki
BEGIN:DAYLIGHT
DTSTART:20260329T040000
TZOFFSETFROM:+0200
TZOFFSETTO:+0300
RRULE:FREQ=YEARLY;BYDAY=-1SU;BYMONTH=3
TZNAME:EEST
END:DAYLIGHT
BEGIN:STANDARD
DTSTART:20261025T030000
TZOFFSETFROM:+0300
TZOFFSETTO:+0200
RRULE:FREQ=YEARLY;BYDAY=-1SU;BYMONTH=10
TZNAME:EET
END:STANDARD
END:VTIMEZONE
BEGIN:VEVENT
DTSTAMP:20260421T182753
UID:lcspanthers.myclub.fi-429962
DTSTART;TZID=Europe/Helsinki:20170109T000000
DTEND;TZID=Europe/Helsinki:20170109T000000
DESCRIPTION:Seuran pienimmistä koostuva mikrojen harrastejoukkue. Pikku pa
 nttereitten ikähaarukka on 3-5 vuotta. Harjoitukset ovat sunnuntaisin Kä
 rpäsen koululla klo 12-13. Tavoitteena on tutustua cheerleadingin peruste
 isiin liikunnallisten leikkien ja hauskanpidon ohella.\n\nhttps://lcspanth
 ers.myclub.fi/flow/events/429962
LOCATION:Ilmoittautuminen\, 
SEQUENCE:0
SUMMARY:LCS Panthers ry: Ilmoittautuminen Uncia (2011-2013)
URL;VALUE=URI:https://lcspanthers.myclub.fi/flow/events/429962
END:VEVENT
END:VCALENDAR
